BEGIN:VCALENDAR
VERSION:2.0
PRODID:-//Lipscombe Auction House - ECPv5.3.1.1//NONSGML v1.0//EN
CALSCALE:GREGORIAN
METHOD:PUBLISH
X-WR-CALNAME:Lipscombe Auction House
X-ORIGINAL-URL:https://www.lipscombeauctionhouse.co.nz
X-WR-CALDESC:Events for Lipscombe Auction House
BEGIN:VTIMEZONE
TZID:Pacific/Auckland
BEGIN:STANDARD
TZOFFSETFROM:+1300
TZOFFSETTO:+1200
TZNAME:NZST
DTSTART:20210403T140000
END:STANDARD
BEGIN:DAYLIGHT
TZOFFSETFROM:+1200
TZOFFSETTO:+1300
TZNAME:NZDT
DTSTART:20210925T140000
END:DAYLIGHT
END:VTIMEZONE
BEGIN:VEVENT
DTSTART;TZID=Pacific/Auckland:20210124T110000
DTEND;TZID=Pacific/Auckland:20210124T140000
DTSTAMP:20210123T100715
CREATED:20210113T001704Z
LAST-MODIFIED:20210120T223416Z
UID:6503-1611486000-1611496800@www.lipscombeauctionhouse.co.nz
SUMMARY:Decorative\, Collectable & NZ Gifts Auction
DESCRIPTION:⏳ Decorative\, Collectable & NZ Gifts Auction 🎁 \nOnline bidding commences 1PM Thursday 21st of January. \nThe LIVE auction begins at 11AM closing 2PM Sunday 24th. \nThis auction will run online and inhouse. \n📲 Download our app here! \nThe App \n \n🕓 Click to view the full catalogue and bid online!\nhttps://live.lipscombeauctionhouse.co.nz/ \n👉 A very interesting auction this week! Over 50% of the lots are BRAND NEW NZ gift items from the gift shop that was at the WOW Museum. This shop closed when the Museum closed during quarantine. A wonderful opportunity to purchase quality NZ giftware! The auction also features: Silver Coins & Watches\, Costume Jewellery\, a large collection of Vintage/Antique Cameras\, Dining Tables\, Lounge Suites\, Art and so much more! \nNOTE: We are still accepting entries into the following Tools & Equipment auction! If you have items to add to the auction\, please bring them in by Tuesday 26th of January 3pm. The Tools auction will be held on Sunday the 31st of January at 11am. \n👥 Follow our page\, or sign up to our newsletter to get notified about our auctions! You can sign up at the bottom of our website: https://www.lipscombeauctionhouse.co.nz/ \n👁 Viewing for this auction will be:\n13 New Street\, Nelson\, NZ.\nFriday and Saturday 9am-3pm\nSunday 9am until Auction at 11am. \n☕️ We have PLENTY OF FREE PARKING – ALONGSIDE OUR AUCTION ROOMS on Auction Day. We will also be providing TEA\, COFFEE and BISCUITS! \n☎️ We are happy to take Absentee & Phone Bids. We accept Cash\, Eftpos & Internet Banking by arrangement. We cannot accept cheques or credit cards. \n🚙 All items won must be picked up by the following Tuesday 3pm. \n✅ So jump online today!\nThere will be a 20% buyer’s premium on this auction. \n#lipscombe #nelsonnz #auctionsnz #ONLINE #Auction #sale #Nelson #nelsonbay #antiques #antiqueshop #vintage #retro #antique #furniture #art #artwork #silver #wow #wowmuseum #gifts #giftware
URL:https://www.lipscombeauctionhouse.co.nz/upcoming-auction/the-next-auction-will-be-2/
LOCATION:Lipscombe Auction House\, 13 New Street\, Nelson\, 7010\, New Zealand
ORGANIZER;CN="Lipscombe%20Auction%20House":MAILTO:lipscombeauctions@gmail.com
END:VEVENT
BEGIN:VEVENT
DTSTART;TZID=Pacific/Auckland:20210131T110000
DTEND;TZID=Pacific/Auckland:20210131T140000
DTSTAMP:20210123T100715
CREATED:20210119T234343Z
LAST-MODIFIED:20210119T234343Z
UID:6508-1612090800-1612101600@www.lipscombeauctionhouse.co.nz
SUMMARY:The Next Auction Will Be...
DESCRIPTION:Online bidding commences 12PM Thursday 28th of January. \nThe LIVE auction begins at 11AM closing 2PM Sunday 31st. \nThis auction will run online and inhouse. \n📲 Download our app here! \nThe App \n \n🕓 Click to view the full catalogue and bid online!\nhttps://live.lipscombeauctionhouse.co.nz/ \n👁 Viewing for this auction will be:\nFriday and Saturday 9am-3pm\nSunday 9am until Auction at 11am. \n☕️ We have PLENTY OF FREE PARKING – ALONGSIDE OUR AUCTION ROOMS on Auction Day. We will also be providing TEA\, COFFEE and BISCUITS! \n☎️ We are happy to take Absentee & Phone Bids. We accept Cash\, Eftpos & Internet Banking by arrangement. We cannot accept cheques or credit cards. \n🚙 All items won must be picked up by the following Tuesday 3pm. \n✅ So jump online today!\nThere will be a 20% buyer’s premium on this auction.
URL:https://www.lipscombeauctionhouse.co.nz/upcoming-auction/the-next-auction-will-be/
LOCATION:Lipscombe Auction House\, 13 New Street\, Nelson\, 7010\, New Zealand
ORGANIZER;CN="Lipscombe%20Auction%20House":MAILTO:lipscombeauctions@gmail.com
END:VEVENT
END:VCALENDAR